BEGIN:VCALENDAR
VERSION:2.0
PRODID:-//Luminous Home Cleaning | Las Vegas - ECPv6.15.20//NONSGML v1.0//EN
CALSCALE:GREGORIAN
METHOD:PUBLISH
X-WR-CALNAME:Luminous Home Cleaning | Las Vegas
X-ORIGINAL-URL:https://luminoushomecleaning.com
X-WR-CALDESC:Events for Luminous Home Cleaning | Las Vegas
REFRESH-INTERVAL;VALUE=DURATION:PT1H
X-Robots-Tag:noindex
X-PUBLISHED-TTL:PT1H
BEGIN:VTIMEZONE
TZID:America/Los_Angeles
BEGIN:DAYLIGHT
TZOFFSETFROM:-0800
TZOFFSETTO:-0700
TZNAME:PDT
DTSTART:20210314T100000
END:DAYLIGHT
BEGIN:STANDARD
TZOFFSETFROM:-0700
TZOFFSETTO:-0800
TZNAME:PST
DTSTART:20211107T090000
END:STANDARD
BEGIN:DAYLIGHT
TZOFFSETFROM:-0800
TZOFFSETTO:-0700
TZNAME:PDT
DTSTART:20220313T100000
END:DAYLIGHT
BEGIN:STANDARD
TZOFFSETFROM:-0700
TZOFFSETTO:-0800
TZNAME:PST
DTSTART:20221106T090000
END:STANDARD
BEGIN:DAYLIGHT
TZOFFSETFROM:-0800
TZOFFSETTO:-0700
TZNAME:PDT
DTSTART:20230312T100000
END:DAYLIGHT
BEGIN:STANDARD
TZOFFSETFROM:-0700
TZOFFSETTO:-0800
TZNAME:PST
DTSTART:20231105T090000
END:STANDARD
BEGIN:DAYLIGHT
TZOFFSETFROM:-0800
TZOFFSETTO:-0700
TZNAME:PDT
DTSTART:20240310T100000
END:DAYLIGHT
BEGIN:STANDARD
TZOFFSETFROM:-0700
TZOFFSETTO:-0800
TZNAME:PST
DTSTART:20241103T090000
END:STANDARD
BEGIN:DAYLIGHT
TZOFFSETFROM:-0800
TZOFFSETTO:-0700
TZNAME:PDT
DTSTART:20250309T100000
END:DAYLIGHT
BEGIN:STANDARD
TZOFFSETFROM:-0700
TZOFFSETTO:-0800
TZNAME:PST
DTSTART:20251102T090000
END:STANDARD
BEGIN:DAYLIGHT
TZOFFSETFROM:-0800
TZOFFSETTO:-0700
TZNAME:PDT
DTSTART:20260308T100000
END:DAYLIGHT
BEGIN:STANDARD
TZOFFSETFROM:-0700
TZOFFSETTO:-0800
TZNAME:PST
DTSTART:20261101T090000
END:STANDARD
BEGIN:DAYLIGHT
TZOFFSETFROM:-0800
TZOFFSETTO:-0700
TZNAME:PDT
DTSTART:20270314T100000
END:DAYLIGHT
BEGIN:STANDARD
TZOFFSETFROM:-0700
TZOFFSETTO:-0800
TZNAME:PST
DTSTART:20271107T090000
END:STANDARD
BEGIN:DAYLIGHT
TZOFFSETFROM:-0800
TZOFFSETTO:-0700
TZNAME:PDT
DTSTART:20280312T100000
END:DAYLIGHT
BEGIN:STANDARD
TZOFFSETFROM:-0700
TZOFFSETTO:-0800
TZNAME:PST
DTSTART:20281105T090000
END:STANDARD
BEGIN:DAYLIGHT
TZOFFSETFROM:-0800
TZOFFSETTO:-0700
TZNAME:PDT
DTSTART:20290311T100000
END:DAYLIGHT
BEGIN:STANDARD
TZOFFSETFROM:-0700
TZOFFSETTO:-0800
TZNAME:PST
DTSTART:20291104T090000
END:STANDARD
END:VTIMEZONE
BEGIN:VEVENT
DTSTART;TZID=America/Los_Angeles:20221003T000000
DTEND;TZID=America/Los_Angeles:20271003T010000
DTSTAMP:20260422T052053
CREATED:20140731T083656Z
LAST-MODIFIED:20140731T083656Z
UID:8180-1664755200-1822525200@luminoushomecleaning.com
SUMMARY:Picture Hanging Workshop
DESCRIPTION:Event description\n\n	\n	\n	\n\n\n	\n		\n	We’ve seen a thing or two when it comes to the cleanliness of homes. Read below to find out the most commonly overlooked areas in the kitchen & learn how to quickly clean them. \n\n	\n\n\n\n			\n	\n	\n		\n	\n	\n	Programme structure\n\n	\n	\n	\n\n\n	\n		\n	Your Neglected Dish Rack \nSponges \nThe Microwave \nThe Garbage Disposal & Sink Drain
URL:https://luminoushomecleaning.com/classes/picture-hanging-workshop/
LOCATION:New York Ardesia Bar\, Lexington Avenue\, New York\, NY\, 10022\, United States
CATEGORIES:Cleaning,Design,Engineering
ATTACH;FMTTYPE=image/jpeg:https://luminoushomecleaning.com/wp-content/uploads/2010/04/photo-10.jpg
ORGANIZER;CN="Michael & Ashley":MAILTO:junk@vamtam.com
END:VEVENT
BEGIN:VEVENT
DTSTART;VALUE=DATE:20221031
DTEND;VALUE=DATE:20270503
DTSTAMP:20260422T052053
CREATED:20140731T083401Z
LAST-MODIFIED:20140731T083401Z
UID:9292-1667232000-1809273599@luminoushomecleaning.com
SUMMARY:Clean & Stylish Holiday Decoration
DESCRIPTION:Event description\n\n	\n	\n	\n\n\n	\n		\n	We’ve seen a thing or two when it comes to the cleanliness of homes. Read below to find out the most commonly overlooked areas in the kitchen & learn how to quickly clean them. \n\n	\n\n\n\n			\n	\n	\n		\n	\n	\n	Programme structure\n\n	\n	\n	\n\n\n	\n		\n	Your Neglected Dish Rack \nSponges \nThe Microwave \nThe Garbage Disposal & Sink Drain
URL:https://luminoushomecleaning.com/classes/clean-stylish-holiday-decoration/
LOCATION:New York Ardesia Bar\, Lexington Avenue\, New York\, NY\, 10022\, United States
CATEGORIES:Commercial,Engineering,Management,Workshops
ATTACH;FMTTYPE=image/jpeg:https://luminoushomecleaning.com/wp-content/uploads/2014/03/photo-14.jpg
ORGANIZER;CN="Michael":MAILTO:junk@vamtam.com
END:VEVENT
BEGIN:VEVENT
DTSTART;TZID=America/Los_Angeles:20221031T230000
DTEND;TZID=America/Los_Angeles:20281031T030000
DTSTAMP:20260422T052053
CREATED:20140731T083401Z
LAST-MODIFIED:20140731T083401Z
UID:9293-1667257200-1856574000@luminoushomecleaning.com
SUMMARY:Clany at TechCrunch Disrupt NY
DESCRIPTION:Event description\n\n	\n	\n	\n\n\n	\n		\n	We’ve seen a thing or two when it comes to the cleanliness of homes. Read below to find out the most commonly overlooked areas in the kitchen & learn how to quickly clean them. \n\n	\n\n\n\n			\n	\n	\n		\n	\n	\n	Programme structure\n\n	\n	\n	\n\n\n	\n		\n	Your Neglected Dish Rack \nSponges \nThe Microwave \nThe Garbage Disposal & Sink Drain
URL:https://luminoushomecleaning.com/classes/clany-at-techcrunch-disrupt-ny/
LOCATION:New York Ardesia Bar\, Lexington Avenue\, New York\, NY\, 10022\, United States
CATEGORIES:Cleaning,Engineering,Workshops
ATTACH;FMTTYPE=image/jpeg:https://luminoushomecleaning.com/wp-content/uploads/2017/04/photo-1.jpg
ORGANIZER;CN="Michael":MAILTO:junk@vamtam.com
END:VEVENT
BEGIN:VEVENT
DTSTART;TZID=America/Los_Angeles:20221106T000000
DTEND;TZID=America/Los_Angeles:20280901T090000
DTSTAMP:20260422T052053
CREATED:20140731T083116Z
LAST-MODIFIED:20140731T083116Z
UID:9209-1667692800-1851411600@luminoushomecleaning.com
SUMMARY:Clany at Web Summit
DESCRIPTION:Event description\n\n	\n	\n	\n\n\n	\n		\n	We’ve seen a thing or two when it comes to the cleanliness of homes. Read below to find out the most commonly overlooked areas in the kitchen & learn how to quickly clean them. \n\n	\n\n\n\n			\n	\n	\n		\n	\n	\n	Programme structure\n\n	\n	\n	\n\n\n	\n		\n	Your Neglected Dish Rack \nSponges \nThe Microwave \nThe Garbage Disposal & Sink Drain
URL:https://luminoushomecleaning.com/classes/clany-at-web-summit/
LOCATION:New York Ardesia Bar\, Lexington Avenue\, New York\, NY\, 10022\, United States
CATEGORIES:Cleaning,Engineering,Management,Workshops
ATTACH;FMTTYPE=image/jpeg:https://luminoushomecleaning.com/wp-content/uploads/2010/04/photo-4.jpg
ORGANIZER;CN="Michael":MAILTO:junk@vamtam.com
END:VEVENT
BEGIN:VEVENT
DTSTART;VALUE=DATE:20221108
DTEND;VALUE=DATE:20270311
DTSTAMP:20260422T052053
CREATED:20140731T083656Z
LAST-MODIFIED:20140731T083656Z
UID:8178-1667923200-1804694399@luminoushomecleaning.com
SUMMARY:Common Home Maintenance Myths
DESCRIPTION:Event description\n\n	\n	\n	\n\n\n	\n		\n	We’ve seen a thing or two when it comes to the cleanliness of homes. Read below to find out the most commonly overlooked areas in the kitchen & learn how to quickly clean them. \n\n	\n\n\n\n			\n	\n	\n		\n	\n	\n	Programme structure\n\n	\n	\n	\n\n\n	\n		\n	Your Neglected Dish Rack \nSponges \nThe Microwave \nThe Garbage Disposal & Sink Drain
URL:https://luminoushomecleaning.com/classes/common-home-maintenance-myths/
LOCATION:New York Ardesia Bar\, Lexington Avenue\, New York\, NY\, 10022\, United States
CATEGORIES:Cleaning,Commercial,Design,Engineering
ATTACH;FMTTYPE=image/jpeg:https://luminoushomecleaning.com/wp-content/uploads/2010/04/photo-16.jpg
ORGANIZER;CN="Michael & Ashley":MAILTO:junk@vamtam.com
END:VEVENT
BEGIN:VEVENT
DTSTART;TZID=America/Los_Angeles:20221110T000000
DTEND;TZID=America/Los_Angeles:20270901T010000
DTSTAMP:20260422T052053
CREATED:20140731T083656Z
LAST-MODIFIED:20140731T083656Z
UID:8179-1668038400-1819760400@luminoushomecleaning.com
SUMMARY:Creating Studio Space and Style
DESCRIPTION:Event description\n\n	\n	\n	\n\n\n	\n		\n	We’ve seen a thing or two when it comes to the cleanliness of homes. Read below to find out the most commonly overlooked areas in the kitchen & learn how to quickly clean them. \n\n	\n\n\n\n			\n	\n	\n		\n	\n	\n	Programme structure\n\n	\n	\n	\n\n\n	\n		\n	Your Neglected Dish Rack \nSponges \nThe Microwave \nThe Garbage Disposal & Sink Drain
URL:https://luminoushomecleaning.com/classes/creating-studio-space-and-style/
LOCATION:New York Ardesia Bar\, Lexington Avenue\, New York\, NY\, 10022\, United States
CATEGORIES:Cleaning,Commercial,Workshops
ATTACH;FMTTYPE=image/jpeg:https://luminoushomecleaning.com/wp-content/uploads/2014/03/photo-13.jpg
ORGANIZER;CN="Michael & Ashley":MAILTO:junk@vamtam.com
END:VEVENT
BEGIN:VEVENT
DTSTART;TZID=America/Los_Angeles:20231101T000000
DTEND;TZID=America/Los_Angeles:20270728T090000
DTSTAMP:20260422T052053
CREATED:20140731T083116Z
LAST-MODIFIED:20140731T083116Z
UID:9272-1698796800-1816765200@luminoushomecleaning.com
SUMMARY:Tiling Workshop
DESCRIPTION:Event description\n\n	\n	\n	\n\n\n	\n		\n	We’ve seen a thing or two when it comes to the cleanliness of homes. Read below to find out the most commonly overlooked areas in the kitchen & learn how to quickly clean them. \n\n	\n\n\n\n			\n	\n	\n		\n	\n	\n	Programme structure\n\n	\n	\n	\n\n\n	\n		\n	Your Neglected Dish Rack \nSponges \nThe Microwave \nThe Garbage Disposal & Sink Drain
URL:https://luminoushomecleaning.com/classes/tiling-workshop/
LOCATION:New York Ardesia Bar\, Lexington Avenue\, New York\, NY\, 10022\, United States
CATEGORIES:Cleaning,Design,Engineering,Workshops
ATTACH;FMTTYPE=image/jpeg:https://luminoushomecleaning.com/wp-content/uploads/2013/09/photo-17.jpg
ORGANIZER;CN="Michael":MAILTO:junk@vamtam.com
END:VEVENT
BEGIN:VEVENT
DTSTART;VALUE=DATE:20231110
DTEND;VALUE=DATE:20270212
DTSTAMP:20260422T052054
CREATED:20140731T083401Z
LAST-MODIFIED:20140731T083401Z
UID:8708-1699632000-1802361599@luminoushomecleaning.com
SUMMARY:Top 10 Move in Tips
DESCRIPTION:Event description\n\n	\n	\n	\n\n\n	\n		\n	We’ve seen a thing or two when it comes to the cleanliness of homes. Read below to find out the most commonly overlooked areas in the kitchen & learn how to quickly clean them. \n\n	\n\n\n\n			\n	\n	\n		\n	\n	\n	Programme structure\n\n	\n	\n	\n\n\n	\n		\n	Your Neglected Dish Rack \nSponges \nThe Microwave \nThe Garbage Disposal & Sink Drain
URL:https://luminoushomecleaning.com/classes/top-10-move-in-tips/
LOCATION:New York Ardesia Bar\, Lexington Avenue\, New York\, NY\, 10022\, United States
CATEGORIES:Commercial,Design,Engineering
ATTACH;FMTTYPE=image/jpeg:https://luminoushomecleaning.com/wp-content/uploads/2014/03/photo-12.jpg
ORGANIZER;CN="Michael":MAILTO:junk@vamtam.com
END:VEVENT
END:VCALENDAR